BEGIN:VCALENDAR
VERSION:2.0
PRODID:-//ISPB - ECPv6.15.17//NONSGML v1.0//EN
CALSCALE:GREGORIAN
METHOD:PUBLISH
X-WR-CALNAME:ISPB
X-ORIGINAL-URL:https://eyehealthillinois.org
X-WR-CALDESC:Events for ISPB
REFRESH-INTERVAL;VALUE=DURATION:PT1H
X-Robots-Tag:noindex
X-PUBLISHED-TTL:PT1H
BEGIN:VTIMEZONE
TZID:America/Chicago
BEGIN:DAYLIGHT
TZOFFSETFROM:-0600
TZOFFSETTO:-0500
TZNAME:CDT
DTSTART:20240310T080000
END:DAYLIGHT
BEGIN:STANDARD
TZOFFSETFROM:-0500
TZOFFSETTO:-0600
TZNAME:CST
DTSTART:20241103T070000
END:STANDARD
BEGIN:DAYLIGHT
TZOFFSETFROM:-0600
TZOFFSETTO:-0500
TZNAME:CDT
DTSTART:20250309T080000
END:DAYLIGHT
BEGIN:STANDARD
TZOFFSETFROM:-0500
TZOFFSETTO:-0600
TZNAME:CST
DTSTART:20251102T070000
END:STANDARD
BEGIN:DAYLIGHT
TZOFFSETFROM:-0600
TZOFFSETTO:-0500
TZNAME:CDT
DTSTART:20260308T080000
END:DAYLIGHT
BEGIN:STANDARD
TZOFFSETFROM:-0500
TZOFFSETTO:-0600
TZNAME:CST
DTSTART:20261101T070000
END:STANDARD
END:VTIMEZONE
BEGIN:VEVENT
DTSTART;TZID=America/Chicago:20250623T110000
DTEND;TZID=America/Chicago:20250623T140000
DTSTAMP:20260423T055529
CREATED:20250515T202448Z
LAST-MODIFIED:20250707T222343Z
UID:10000007-1750676400-1750687200@eyehealthillinois.org
SUMMARY:HEALTHY SIGHT FOR LIFE - A Diabetes and Eye Health Fair
DESCRIPTION:[vc_row][vc_column][vc_column_text css=””] \nHEALTHY SIGHT FOR LIFE\nHealthy Sight for Life\nA Diabetes and Eye Health Fair\nActivities: \n? Vision Mural Art Project\n? Fashion Show by Low Vision Artist (At 12:30 pm)\n?️ Eye Health Check\n? Mental Health & Vision Resources\n?‍⚕️ Expert Talks on Diabetes & Eye Health\n? Healthy Snacks\n✅ And Much More! \nJune 23\, 2025 | 11 am – 2 pm\nChicago Cultural Center\nGAR Rotunda 2nd Floor North | 78 E. Washington Street \nORGANIZED BY: \nPrevent Blindness \nILLINOIS SOCIETY FOR THE PREVENTION OF BLINDNESS \nThe Chicago Lighthouse \nNational Center for Children’s Vision and Eye Health (Prevent Blindness) \nSTEPHANIE NUNN\, MPA\nVISIONARIZM\nFASHION WITH A FOCUS \nSponsored in part by:\nGenentech\nA Member of the Roche Group[/vc_column_text][/vc_column][/vc_row]
URL:https://eyehealthillinois.org/event/healthy-sight-for-life/
LOCATION:Chicago Cultural Center\, 78 E. Washington Street\, Chicago\, IL\, 60602\, United States
CATEGORIES:Community Events
ATTACH;FMTTYPE=image/jpeg:https://eyehealthillinois.org/wp-content/uploads/Healthy-Sight-for-Life3-social.jpg
END:VEVENT
END:VCALENDAR