BEGIN:VCALENDAR
VERSION:2.0
PRODID:-//ISPB - ECPv6.15.17//NONSGML v1.0//EN
CALSCALE:GREGORIAN
METHOD:PUBLISH
X-WR-CALNAME:ISPB
X-ORIGINAL-URL:https://eyehealthillinois.org
X-WR-CALDESC:Events for ISPB
REFRESH-INTERVAL;VALUE=DURATION:PT1H
X-Robots-Tag:noindex
X-PUBLISHED-TTL:PT1H
BEGIN:VTIMEZONE
TZID:America/Chicago
BEGIN:DAYLIGHT
TZOFFSETFROM:-0600
TZOFFSETTO:-0500
TZNAME:CDT
DTSTART:20240310T080000
END:DAYLIGHT
BEGIN:STANDARD
TZOFFSETFROM:-0500
TZOFFSETTO:-0600
TZNAME:CST
DTSTART:20241103T070000
END:STANDARD
BEGIN:DAYLIGHT
TZOFFSETFROM:-0600
TZOFFSETTO:-0500
TZNAME:CDT
DTSTART:20250309T080000
END:DAYLIGHT
BEGIN:STANDARD
TZOFFSETFROM:-0500
TZOFFSETTO:-0600
TZNAME:CST
DTSTART:20251102T070000
END:STANDARD
BEGIN:DAYLIGHT
TZOFFSETFROM:-0600
TZOFFSETTO:-0500
TZNAME:CDT
DTSTART:20260308T080000
END:DAYLIGHT
BEGIN:STANDARD
TZOFFSETFROM:-0500
TZOFFSETTO:-0600
TZNAME:CST
DTSTART:20261101T070000
END:STANDARD
END:VTIMEZONE
BEGIN:VEVENT
DTSTART;TZID=America/Chicago:20250801T100000
DTEND;TZID=America/Chicago:20250801T110000
DTSTAMP:20260419T113032
CREATED:20250716T175945Z
LAST-MODIFIED:20250722T154128Z
UID:10000018-1754042400-1754046000@eyehealthillinois.org
SUMMARY:Frisbee Senior Center Presentation
DESCRIPTION:
URL:https://eyehealthillinois.org/event/frisbee-senior-center-presentation/
LOCATION:52 E Northwest Hwy Des Plaines\, IL\, 52 E Northwest Hwy Des Plaines\, IL
CATEGORIES:Community Events
ATTACH;FMTTYPE=image/jpeg:https://eyehealthillinois.org/wp-content/uploads/294fce31-20c0-4767-8822-0ecca3ede9eb.jpg
END:VEVENT
END:VCALENDAR