BEGIN:VCALENDAR
VERSION:2.0
PRODID:-//ISPB - ECPv6.15.17//NONSGML v1.0//EN
CALSCALE:GREGORIAN
METHOD:PUBLISH
X-ORIGINAL-URL:https://eyehealthillinois.org
X-WR-CALDESC:Events for ISPB
REFRESH-INTERVAL;VALUE=DURATION:PT1H
X-Robots-Tag:noindex
X-PUBLISHED-TTL:PT1H
BEGIN:VTIMEZONE
TZID:America/Chicago
BEGIN:DAYLIGHT
TZOFFSETFROM:-0600
TZOFFSETTO:-0500
TZNAME:CDT
DTSTART:20240310T080000
END:DAYLIGHT
BEGIN:STANDARD
TZOFFSETFROM:-0500
TZOFFSETTO:-0600
TZNAME:CST
DTSTART:20241103T070000
END:STANDARD
BEGIN:DAYLIGHT
TZOFFSETFROM:-0600
TZOFFSETTO:-0500
TZNAME:CDT
DTSTART:20250309T080000
END:DAYLIGHT
BEGIN:STANDARD
TZOFFSETFROM:-0500
TZOFFSETTO:-0600
TZNAME:CST
DTSTART:20251102T070000
END:STANDARD
BEGIN:DAYLIGHT
TZOFFSETFROM:-0600
TZOFFSETTO:-0500
TZNAME:CDT
DTSTART:20260308T080000
END:DAYLIGHT
BEGIN:STANDARD
TZOFFSETFROM:-0500
TZOFFSETTO:-0600
TZNAME:CST
DTSTART:20261101T070000
END:STANDARD
END:VTIMEZONE
BEGIN:VEVENT
DTSTART;TZID=America/Chicago:20250801T100000
DTEND;TZID=America/Chicago:20250801T110000
DTSTAMP:20260419T095100
CREATED:20250716T175945Z
LAST-MODIFIED:20250722T154128Z
UID:10000018-1754042400-1754046000@eyehealthillinois.org
SUMMARY:Frisbee Senior Center Presentation
DESCRIPTION:
URL:https://eyehealthillinois.org/event/frisbee-senior-center-presentation/
LOCATION:52 E Northwest Hwy Des Plaines\, IL\, 52 E Northwest Hwy Des Plaines\, IL
CATEGORIES:Community Events
ATTACH;FMTTYPE=image/jpeg:https://eyehealthillinois.org/wp-content/uploads/294fce31-20c0-4767-8822-0ecca3ede9eb.jpg
END:VEVENT
BEGIN:VEVENT
DTSTART;TZID=America/Chicago:20250809T080000
DTEND;TZID=America/Chicago:20250809T170000
DTSTAMP:20260419T095100
CREATED:20250716T180316Z
LAST-MODIFIED:20250722T154134Z
UID:10000019-1754726400-1754758800@eyehealthillinois.org
SUMMARY:State Senator/Rep Back to School Health Fair
DESCRIPTION:
URL:https://eyehealthillinois.org/event/state-senator-rep-back-to-school-health-fair-2/
LOCATION:2148 N Long Ave\, 2148 N Long Ave
CATEGORIES:Community Events
ATTACH;FMTTYPE=image/jpeg:https://eyehealthillinois.org/wp-content/uploads/Senators-Event-Picture-1.jpg
END:VEVENT
BEGIN:VEVENT
DTSTART;TZID=America/Chicago:20250810T100000
DTEND;TZID=America/Chicago:20250810T120000
DTSTAMP:20260419T095100
CREATED:20250716T180437Z
LAST-MODIFIED:20250722T154137Z
UID:10000020-1754820000-1754827200@eyehealthillinois.org
SUMMARY:West40 Backpack Giveback
DESCRIPTION:
URL:https://eyehealthillinois.org/event/west40-backpack-giveback/
LOCATION:1529 Harlem Ave Berwyn\, IL\, 1529 Harlem Ave Berwyn\, IL
CATEGORIES:Community Events
ATTACH;FMTTYPE=image/png:https://eyehealthillinois.org/wp-content/uploads/West40-BPGB-2025-flyer.png
END:VEVENT
BEGIN:VEVENT
DTSTART;TZID=America/Chicago:20250816T103000
DTEND;TZID=America/Chicago:20250816T130000
DTSTAMP:20260419T095100
CREATED:20250707T224020Z
LAST-MODIFIED:20250722T154141Z
UID:10000014-1755340200-1755349200@eyehealthillinois.org
SUMMARY:West Humboldt Back to School Event
DESCRIPTION:
URL:https://eyehealthillinois.org/event/west-humboldt-back-to-school-event/
LOCATION:Mission of Our Lady of the Angels\, 3808 W Iowa St\, Chicago\, IL\, 60651\, United States
CATEGORIES:Community Events
ATTACH;FMTTYPE=image/png:https://eyehealthillinois.org/wp-content/uploads/2025-Back-to-School-Block-Party.png
END:VEVENT
END:VCALENDAR